BEGIN:VCALENDAR
VERSION:2.0
PRODID:-//Pontificia Università Lateranense - ECPv4.6.19//NONSGML v1.0//EN
CALSCALE:GREGORIAN
METHOD:PUBLISH
X-WR-CALNAME:Pontificia Università Lateranense
X-ORIGINAL-URL:https://www.pul.it
X-WR-CALDESC:Events for Pontificia Università Lateranense
BEGIN:VEVENT
DTSTART;TZID=Europe/Rome:20200316T153000
DTEND;TZID=Europe/Rome:20200316T173000
DTSTAMP:20260424T132119
CREATED:20200224T102015Z
LAST-MODIFIED:20200224T102015Z
UID:41745-1584372600-1584379800@www.pul.it
SUMMARY:Seminario: Il valore della vita
DESCRIPTION: \n
URL:https://www.pul.it/event/seminario-il-valore-della-vita/
LOCATION:piazza San Giovanni in Laterano 4\, Roma\, Italia
END:VEVENT
END:VCALENDAR