BEGIN:VCALENDAR
VERSION:2.0
PRODID:-//Pontificia Università Lateranense - ECPv4.6.19//NONSGML v1.0//EN
CALSCALE:GREGORIAN
METHOD:PUBLISH
X-WR-CALNAME:Pontificia Università Lateranense
X-ORIGINAL-URL:https://www.pul.it
X-WR-CALDESC:Events for Pontificia Università Lateranense
BEGIN:VEVENT
DTSTART;TZID=Europe/Rome:20200212T143000
DTEND;TZID=Europe/Rome:20200212T180000
DTSTAMP:20260424T145455
CREATED:20200123T103853Z
LAST-MODIFIED:20200207T123346Z
UID:41590-1581517800-1581530400@www.pul.it
SUMMARY:Prima Giornata di Preparazione alla Maturità
DESCRIPTION:\nLa Pontificia Università Lateranense organizza una Giornata di preparazione alla Maturità\, dedicata agli studenti dell’ultimo anno delle scuole superiori che si apprestano a sostenere l’ Esame di Stato.\n\n\nL’iniziativa\, attraverso lezioni frontali tenute da docenti universitari\, contribuirà ad approfondire alcuni temi urgenti del contemporaneo come il legame tra immigrazione e integrazione\, l’educazione alle legalità e il rapporto tra persona e Stato. \n\n\n \n\n\nL’appuntamento è per Mercoledì 12 febbraio a partire dalle 14.30 presso l’Aula Pio XI della Lateranense. \n\n\nL’evento è gratuito.\n\n\n \n\n\nPer informazioni e prenotazioni: orientamento@pul.it\n\n \n\n
URL:https://www.pul.it/event/prima-giornata-di-preparazione-alla-maturita/
LOCATION:piazza San Giovanni in Laterano 4\, Roma\, Italia
END:VEVENT
END:VCALENDAR