BEGIN:VCALENDAR
VERSION:2.0
PRODID:-//Pontificia Università Lateranense - ECPv4.6.19//NONSGML v1.0//EN
CALSCALE:GREGORIAN
METHOD:PUBLISH
X-WR-CALNAME:Pontificia Università Lateranense
X-ORIGINAL-URL:https://www.pul.it
X-WR-CALDESC:Events for Pontificia Università Lateranense
BEGIN:VEVENT
DTSTART;TZID=Europe/Rome:20200121T160000
DTEND;TZID=Europe/Rome:20200121T180000
DTSTAMP:20260424T161234
CREATED:20200117T102457Z
LAST-MODIFIED:20200117T102457Z
UID:41546-1579622400-1579629600@www.pul.it
SUMMARY:Inaugurazione Corso di Alta Formazione Nuovi Orizzonti di cooperazione e diritto internazionale
DESCRIPTION: \n
URL:https://www.pul.it/event/inaugurazione-corso-di-alta-formazione-nuovi-orizzonti-di-cooperazione-e-diritto-internazionale/
LOCATION:piazza San Giovanni in Laterano 4\, Roma\, Italia
END:VEVENT
END:VCALENDAR