BEGIN:VCALENDAR
VERSION:2.0
PRODID:-//Pontificia Università Lateranense - ECPv4.6.19//NONSGML v1.0//EN
CALSCALE:GREGORIAN
METHOD:PUBLISH
X-WR-CALNAME:Pontificia Università Lateranense
X-ORIGINAL-URL:https://www.pul.it
X-WR-CALDESC:Events for Pontificia Università Lateranense
BEGIN:VEVENT
DTSTART;TZID=Europe/Rome:20200114T090000
DTEND;TZID=Europe/Rome:20200114T170000
DTSTAMP:20260424T161117
CREATED:20191205T152545Z
LAST-MODIFIED:20191205T152545Z
UID:41263-1578992400-1579021200@www.pul.it
SUMMARY:Vivere  l'Università. Giornata universitaria per gli studenti delle classi quinte e quarte delle scuole secondarie superiori
DESCRIPTION: \n
URL:https://www.pul.it/event/vivere-luniversita-giornata-universitaria-per-gli-studenti-delle-classi-quinte-e-quarte-delle-scuole-secondarie-superiori/
LOCATION:piazza San Giovanni in Laterano 4\, Roma\, Italia
END:VEVENT
END:VCALENDAR