BEGIN:VCALENDAR
VERSION:2.0
PRODID:-//Pontificia Università Lateranense - ECPv4.6.19//NONSGML v1.0//EN
CALSCALE:GREGORIAN
METHOD:PUBLISH
X-WR-CALNAME:Pontificia Università Lateranense
X-ORIGINAL-URL:https://www.pul.it
X-WR-CALDESC:Events for Pontificia Università Lateranense
BEGIN:VEVENT
DTSTART;TZID=Europe/Rome:20191213T090000
DTEND;TZID=Europe/Rome:20191213T120000
DTSTAMP:20260424T173544
CREATED:20191129T094627Z
LAST-MODIFIED:20191129T094627Z
UID:41192-1576227600-1576238400@www.pul.it
SUMMARY:1870-2020: Concilio Vaticano I. Il Primato Petrino
DESCRIPTION: \n
URL:https://www.pul.it/event/1870-2020-concilio-vaticano-i-il-primato-petrino/
LOCATION:piazza San Giovanni in Laterano 4\, Roma\, Italia
END:VEVENT
END:VCALENDAR