BEGIN:VCALENDAR
VERSION:2.0
PRODID:-//Pontificia Università Lateranense - ECPv4.6.19//NONSGML v1.0//EN
CALSCALE:GREGORIAN
METHOD:PUBLISH
X-WR-CALNAME:Pontificia Università Lateranense
X-ORIGINAL-URL:https://www.pul.it
X-WR-CALDESC:Events for Pontificia Università Lateranense
BEGIN:VEVENT
DTSTART;TZID=Europe/Rome:20191205T140000
DTEND;TZID=Europe/Rome:20191205T183000
DTSTAMP:20260424T173550
CREATED:20191127T093006Z
LAST-MODIFIED:20191127T093151Z
UID:41167-1575554400-1575570600@www.pul.it
SUMMARY:La scienza e i sistemi del mondo prenewtoniani
DESCRIPTION: \n
URL:https://www.pul.it/event/la-scienza-e-i-sistemi-del-mondo-prenewtoniani/
LOCATION:piazza San Giovanni in Laterano 4\, Roma\, Italia
END:VEVENT
END:VCALENDAR