BEGIN:VCALENDAR
VERSION:2.0
PRODID:-//Pontificia Università Lateranense - ECPv4.6.19//NONSGML v1.0//EN
CALSCALE:GREGORIAN
METHOD:PUBLISH
X-WR-CALNAME:Pontificia Università Lateranense
X-ORIGINAL-URL:https://www.pul.it
X-WR-CALDESC:Events for Pontificia Università Lateranense
BEGIN:VEVENT
DTSTART;TZID=Europe/Rome:20191122T110000
DTEND;TZID=Europe/Rome:20191122T130000
DTSTAMP:20260424T185732
CREATED:20191112T134606Z
LAST-MODIFIED:20191112T135824Z
UID:41098-1574420400-1574427600@www.pul.it
SUMMARY:Laurea Honoris Causa al Dott. Eusebio Leal Spengler
DESCRIPTION: \n \n
URL:https://www.pul.it/event/laurea-honoris-causa-al-dott-eusebio-leal-spengler/
LOCATION:piazza San Giovanni in Laterano 4\, Roma\, Italia
END:VEVENT
END:VCALENDAR