BEGIN:VCALENDAR
VERSION:2.0
PRODID:-//Pontificia Università Lateranense - ECPv4.6.19//NONSGML v1.0//EN
CALSCALE:GREGORIAN
METHOD:PUBLISH
X-WR-CALNAME:Pontificia Università Lateranense
X-ORIGINAL-URL:https://www.pul.it
X-WR-CALDESC:Events for Pontificia Università Lateranense
BEGIN:VEVENT
DTSTART;TZID=Europe/Rome:20191121T090000
DTEND;TZID=Europe/Rome:20191121T170000
DTSTAMP:20260424T185958
CREATED:20191112T131202Z
LAST-MODIFIED:20191112T131202Z
UID:41085-1574326800-1574355600@www.pul.it
SUMMARY:Giornata Pro Orantibus
DESCRIPTION:  \n \n  \n  \n
URL:https://www.pul.it/event/giornata-pro-orantibus/
LOCATION:piazza San Giovanni in Laterano 4\, Roma\, Italia
END:VEVENT
END:VCALENDAR