BEGIN:VCALENDAR
VERSION:2.0
PRODID:-//Pontificia Università Lateranense - ECPv4.6.19//NONSGML v1.0//EN
CALSCALE:GREGORIAN
METHOD:PUBLISH
X-WR-CALNAME:Pontificia Università Lateranense
X-ORIGINAL-URL:https://www.pul.it
X-WR-CALDESC:Events for Pontificia Università Lateranense
BEGIN:VEVENT
DTSTART;TZID=Europe/Rome:20191113T160000
DTEND;TZID=Europe/Rome:20191113T180000
DTSTAMP:20260424T185805
CREATED:20191112T120513Z
LAST-MODIFIED:20191112T120513Z
UID:41079-1573660800-1573668000@www.pul.it
SUMMARY:Educare alla Pace - Laboratori di Pace
DESCRIPTION: \n
URL:https://www.pul.it/event/educare-alla-pace-laboratori-di-pace/
LOCATION:piazza San Giovanni in Laterano 4\, Roma\, Italia
END:VEVENT
END:VCALENDAR