BEGIN:VCALENDAR
VERSION:2.0
PRODID:-//Pontificia Università Lateranense - ECPv4.6.19//NONSGML v1.0//EN
CALSCALE:GREGORIAN
METHOD:PUBLISH
X-WR-CALNAME:Pontificia Università Lateranense
X-ORIGINAL-URL:https://www.pul.it
X-WR-CALDESC:Events for Pontificia Università Lateranense
BEGIN:VEVENT
DTSTART;TZID=Europe/Rome:20190516T140000
DTEND;TZID=Europe/Rome:20190516T150000
DTSTAMP:20260425T033923
CREATED:20190502T090520Z
LAST-MODIFIED:20190502T090520Z
UID:40100-1558015200-1558018800@www.pul.it
SUMMARY:Benedetto XVI in dialogo con il rabbino Arie Folger: Ebrei e Cristiani
DESCRIPTION:In occasione del 92° genetliaco del Papa emerito la Cattedra per la teologia del popolo di Dio invita alla presentazione del nuovo libro “Benedetto XVI in dialogo con il rabbino Arie Folger: Ebrei e Cristiani“. \nGiovedì 16 maggio \nOre 14.00 \nAula Paolo VI \nInterverranno:  \nArie Folger\, rabbino capo di Vienna \nArcivescovo Georg Gänswein\, prefetto della Casa Pontificia e segretario del Papa emerito Benedetto XVI \nAndrea Monda\, direttore dell’Osservatore Romano  \nProf. Achim Buckenmeier\, direttore della Cattedra per la Teologia del Popolo di Dio e il curatore del volume \n
URL:https://www.pul.it/event/benedetto-xvi-in-dialogo-con-il-rabbino-arie-folger-ebrei-e-cristiani/
LOCATION:piazza San Giovanni in Laterano 4\, Roma\, Italia
END:VEVENT
END:VCALENDAR