BEGIN:VCALENDAR
VERSION:2.0
PRODID:-//Pontificia Università Lateranense - ECPv4.6.19//NONSGML v1.0//EN
CALSCALE:GREGORIAN
METHOD:PUBLISH
X-WR-CALNAME:Pontificia Università Lateranense
X-ORIGINAL-URL:https://www.pul.it
X-WR-CALDESC:Events for Pontificia Università Lateranense
BEGIN:VEVENT
DTSTART;TZID=Europe/Rome:20181219T120000
DTEND;TZID=Europe/Rome:20181219T130000
DTSTAMP:20260425T105047
CREATED:20181204T114054Z
LAST-MODIFIED:20181204T114124Z
UID:39290-1545220800-1545224400@www.pul.it
SUMMARY:Santa Messa di preparazione al Natale
DESCRIPTION:Cappella del Seminario Romano Maggiore\nMercoledì 19 dicembre 2018\nOre 12.00\nMercoledì 19 Dicembre\, alle ore 12.00 presso la Cappella del Seminario Romano Maggiore\, sarà celebrata la Santa Messa di preparazione al Natale. \nPer consentire la partecipazione del personale non docente\, i Servizi dell’Università aperti al pubblico saranno sospesi dalle ore 11.45 per la durata della S. Messa. \n
URL:https://www.pul.it/event/santa-messa-di-preparazione-al-natale/
END:VEVENT
END:VCALENDAR