BEGIN:VCALENDAR
VERSION:2.0
PRODID:-//Pontificia Università Lateranense - ECPv4.6.19//NONSGML v1.0//EN
CALSCALE:GREGORIAN
METHOD:PUBLISH
X-WR-CALNAME:Pontificia Università Lateranense
X-ORIGINAL-URL:https://www.pul.it
X-WR-CALDESC:Events for Pontificia Università Lateranense
BEGIN:VEVENT
DTSTART;TZID=Europe/Rome:20181210T153000
DTEND;TZID=Europe/Rome:20181210T183000
DTSTAMP:20260425T105047
CREATED:20181127T120356Z
LAST-MODIFIED:20181207T132925Z
UID:39250-1544455800-1544466600@www.pul.it
SUMMARY:"Diritti umani\, giustizia di transizione e attività degli organi multilaterali"
DESCRIPTION:GIORNATA MONDIALE DEI DIRITTI DELL’UOMO\nDIRITTI UMANI\, GIUSTIZIA DI TRANSIZIONE E ATTIVITÀ DEGLI ORGANI MULTILATERALI\nLunedì 10 dicembre 2018\nOre 15\,30\nAula Pio XI \n \nI diritti umani a 70 anni dalla Dichiarazione universale.\nIl prossimo 10 dicembre un convegno alla Pontificia Università Lateranense. \n “Diritti umani\, giustizia di transizione e attività degli organi multilaterali”. È questo il titolo del convegno in programma a Roma il prossimo lunedì 10 dicembre\, alle 15.30\, nell’Aula Pio XI della Pontificia Università Lateranense. \nPromosso dal Dipartimento di studi sulla Comunità internazionale dell’Ateneo\, l’evento intende celebrare il 70^ anniversario della Dichiarazione Universale dei Diritti Umani\, adottata dall’Assemblea generale delle Nazioni Unite riunita a Parigi\, al Palais de Chaillot\, il 10 dicembre 1948. \nAll’incontro interverranno\, tra gli altri\, l’arcivescovo sloveno Ivan Jurkovič\, Osservatore Permanente della Santa Sede presso l’ufficio ONU di Ginevra e John Vervaele\, docente di Diritto Penale Europeo presso la Utrecht University School. \nL’iniziativa sarà caratterizzata\, inoltre\, dalla presentazione dei “position paper” redatti dagli studenti del corso di “Diritto internazionale dei Diritti umani” della Lateranense e conclusa dai saluti del Rettore Magnifico dell’Università\, Vincenzo Buonomo. \n\n  \n\nUfficio Comunicazione istituzionale ed eventi \nPontificia Università Lateranense\nPiazza San Giovanni in Laterano\, 4 – 00184 Roma\nTel. 06.698.95.676/699\nEmail eventi@pul.it\nwww.pul.it \n
URL:https://www.pul.it/event/diritti-umani-giustizia-di-transizione-e-attivita-degli-organi-multilaterali/
LOCATION:piazza San Giovanni in Laterano 4\, Roma\, Italia
END:VEVENT
END:VCALENDAR