BEGIN:VCALENDAR
VERSION:2.0
PRODID:-//Pontificia Università Lateranense - ECPv4.6.19//NONSGML v1.0//EN
CALSCALE:GREGORIAN
METHOD:PUBLISH
X-WR-CALNAME:Pontificia Università Lateranense
X-ORIGINAL-URL:https://www.pul.it
X-WR-CALDESC:Events for Pontificia Università Lateranense
BEGIN:VEVENT
DTSTART;TZID=Europe/Rome:20181127T090000
DTEND;TZID=Europe/Rome:20181128T190000
DTSTAMP:20260425T105208
CREATED:20181108T085144Z
LAST-MODIFIED:20181108T085423Z
UID:39032-1543309200-1543431600@www.pul.it
SUMMARY:International Conference "The Origins and Evolution of Space-Time"
DESCRIPTION:International Conference\nThe Origins and Evolution of Space-Time\n\nIRAFS (The International Research Area on the Foundations of Sciences)\nPontifical Lateran University\nNovember 27 – 28\, 2018 \nIn the motivations for the 2017 Nobel Prize in Physics awarded to Rainer Weiss\, Barry C. Barish\, and Kip S. Thorne\, “for decisive contributions to the LIGO detector and the observation of gravitational waves” the Royal Swedish Academy of Sciences stated: “On September 2015\, the universe’s  gravitational waves\, which were predicted by Albert  Einstein a hundred years ago\, came from a collision between black holes. It took 1.3 billion years for the waves to  arrive at the LIGO detector in the USA”. After this first observation others followed during the last years that are changing deeply our scientific cosmology\, inaugurating a new age in the so-called “cosmology of precision”. That is\, a cosmology become a “Galileian science”\, because not only based on mathematical models\, but also on precise measurements  confirming or refuting the mathematical hypotheses. \nAs the press release of Caltech announcing the Nobel Prize to its three professors stated\, “the observation of gravitational waves\, ripples in the fabric of space and time (…)\, provided astronomers with an entirely new set of tools with which to probe the cosmos. Previously\, all astronomy observations\nhave relied on light — which includes X-rays\, radio waves\, and other types of electromagnetic radiation emanating from objects in space — or on very-high-energy particles called neutrinos and cosmic rays. Now\, astronomers can learn about cosmic objects through the quivers they make in space and time”. Aim of this Conference is debating between theoretical physicists and philosophers of nature about the different aspects of the work in progress for the construction of a reliable theory of “quantum gravity”. \nThe amazing ontological and epistemological consequences of these discoveries could be indeed that the origins and the evolution of the space-time structure of our universe have ultimately a dynamic (causal) explanation… \n  \n\nConference Program – November 27-28\n\nContacts\ndamodio@pul.it – irafs@pul.it\nwww.pul.it \nIRAFS (The International Research Area on the Foundations of Sciences) was founded in 1996 at the Lateran University by Ennio De Giorgi (Scuola Normale Superiore of Pisa)\, Edward Nelson (University of Princeton) and Gianfranco Basti. It is devoted to promoting interdisciplinary studies and events between pure and applied mathematical sciences and philosophy\, from the standpoint of the foundational issues in both (www.irafs.org ). \nScientific Committee \nGianfranco Basti (Lateran University)\nFrancesco Guerra (La Sapienza University)\nFlavia Marcacci (Lateran University)\nSarah Jones Nelson (Princeton University)\nChristopher G. Tully (Princeton University)\nGiuseppe Vitiello (Salerno University) \nOrganizing Committee\nGianfranco Basti\nAlfonso D’Amodio\nFlavia Marcacci\nMauro Oliva\nEmanuele Sedran \nConference Venue\nPontifical Lateran University\nPiazza S. Giovanni in Laterano 4 – 00120 Vatican City \n  \n
URL:https://www.pul.it/event/international-conference-the-origins-and-evolution-of-space-time/
LOCATION:piazza San Giovanni in Laterano 4\, Roma\, Italia
END:VEVENT
BEGIN:VEVENT
DTSTART;TZID=Europe/Rome:20181127T141500
DTEND;TZID=Europe/Rome:20181127T181500
DTSTAMP:20260425T105208
CREATED:20181123T091007Z
LAST-MODIFIED:20181123T091155Z
UID:39227-1543328100-1543342500@www.pul.it
SUMMARY:"DAL GETSEMANI DEL CREATO AI CIELI NUOVI E TERRA NUOVA"
DESCRIPTION:Seminario promosso dalla Cattedra Gloria Crucis\nDAL GETSEMANI DEL CREATO AI CIELI NUOVI E TERRA NUOVA:\nPROPOSTE DI CONVERSIONE ECOLOGICA (LS 216-221)\nMartedì\, 27 novembre 2018 | ore 14:15 – 18:15 \nAula Paolo VI\nPontificia Università Lateranense\nPRIMA SESSIONE\nOre 14:15| Saluti Prof. Vincenzo Buonomo\nRettore Magnifico Pontificia Università Lateranense \nP. Fernando Taccone cp\nDirettore della Cattedra “Gloria Crucis”\, Pontificia Università Lateranense \nIntroduzione ai lavori\nProf. Marco Giuseppe Salvati\, OP\nPontificia Università Angelicum  \nOre 14:45 | Relazione LA FEDE IN CRISTO QUALE PRINCIPIO DI ‘PASSIONE PER IL MONDO’ E DI IMPEGNO PER LA CUSTODIA DEL CREATO \nProf. Vincenzo Battaglia\nPontificia Università Antonianum \nOre 15:15 | Dialogo  \nOre 15:30 | Relazione PECCATO E CONVERSIONE ECOLOGICA\nProf. Antonio Porras\nPontificia Università della Santa Croce \nOre 16:00 | Dialogo \nOre 16:15 | Intervallo \n\nSECONDA SESSIONE\nOre 16:45 | Relazione PROCESSI E PERCORSI FORMATIVI DI EDUCAZIONE ECOLOGICA\nProf.ssa Pina Del Core\nPontificia Facoltà Auxilium \nOre 17:15 | Dialogo \nOre 17:30 | Relazione CONVERSIONE ECOLOGICA E GESTIONE DELLA CITTÀ\nDott. Massimo Manzo \nOre 18:00 | Dialogo  \nOre 18:15 | Conclusioni \n\nSEGRETERIA ORGANIZZATIVA \nUFFICIO COMUNICAZIONE ISTITUZIONALE ED EVENTI\nPontificia Università Lateranense\nPiazza San Giovanni in Laterano\, 4 – 00184 Roma\n Tel.: +39 06 6989 5676/ 699\nE-mail: eventi@pul.it\nSito: www.pul.it  \nPER INFORMAZIONI\nP. Fernando Taccone\nTel.: 0541 680138/ Cell.: 333.4700174\nE-mail: tacconef@tiscali.it \n
URL:https://www.pul.it/event/dal-getsemani-del-creato-ai-cieli-nuovi-e-terra-nuova/
LOCATION:piazza San Giovanni in Laterano 4\, Roma\, Italia
END:VEVENT
END:VCALENDAR