BEGIN:VCALENDAR
VERSION:2.0
PRODID:-//Pontificia Università Lateranense - ECPv4.6.19//NONSGML v1.0//EN
CALSCALE:GREGORIAN
METHOD:PUBLISH
X-WR-CALNAME:Pontificia Università Lateranense
X-ORIGINAL-URL:https://www.pul.it
X-WR-CALDESC:Events for Pontificia Università Lateranense
BEGIN:VEVENT
DTSTART;TZID=Europe/Rome:20181126T150000
DTEND;TZID=Europe/Rome:20181126T183000
DTSTAMP:20260425T105207
CREATED:20181108T091706Z
LAST-MODIFIED:20181113T161903Z
UID:39043-1543244400-1543257000@www.pul.it
SUMMARY:History of scientific thought Seminars Series 2017/2018 - Final workshop
DESCRIPTION:How theories are born out between science\, philosophy and theology\n\nHistory of scientific thought Seminars Series 2017/2018\nFinal workshop\nNovember 26\, 2018\nPapa Francesco Room\nPontifical Lateran University\nA new  scientific theory does not take shape without a shift in the concepts that are used. These concepts can be new and the words to express them are often novel. They have to be validated\, and older images can still be retained. Theology has often offered suggestions that were\, sometimes unconscientiously\, borrowed by scientist. This happened in the past\, but it also occurs today. In this workshop the philosophical and theological backgrounds of some scientific theories are explored\, explained and assessed. \nh. 15.00 | Workshop introduction\nFlavia Marcacci (IRAFS\, Pontifical Lateran University) \nh. 15.15 | Newton: The Relativity of Motion and the Metaphysics of Absolute Space\nRobert DiSalle (Western University London\, Ontario) \nh. 16.00 | Einstein theologian\nDon Howard (Notre Dame University\, Indiana) \nh. 16.45 | Coffee break \nh. 17.00 | The Universe was an Atom. Georges Lemaître and the birth of Big bang theory\nDominique Lambert (Universite’ Namur\, Belgium) \nh. 17.45 | Panel discussion \nh. 18.15 | Workshop Ends \n  \nContacts\nPontifical Lateran University\nPiazza S. Giovanni in Laterano\, 4\n00120 Vatican City \n
URL:https://www.pul.it/event/history-of-scientific-thought-seminars-series-2017-2018-final-workshop/
LOCATION:piazza San Giovanni in Laterano 4\, Roma\, Italia
END:VEVENT
END:VCALENDAR