BEGIN:VCALENDAR
VERSION:2.0
PRODID:-//Pontificia Università Lateranense - ECPv4.6.19//NONSGML v1.0//EN
CALSCALE:GREGORIAN
METHOD:PUBLISH
X-WR-CALNAME:Pontificia Università Lateranense
X-ORIGINAL-URL:https://www.pul.it
X-WR-CALDESC:Events for Pontificia Università Lateranense
BEGIN:VEVENT
DTSTART;TZID=Europe/Rome:20181120T090000
DTEND;TZID=Europe/Rome:20181121T130000
DTSTAMP:20260425T121358
CREATED:20181017T125828Z
LAST-MODIFIED:20181119T090737Z
UID:38837-1542704400-1542805200@www.pul.it
SUMMARY:"Una ragione per credere". Fides et Ratio venti anni dopo
DESCRIPTION:Convegno Internazionale Una ragione per credere \n“Fides et Ratio” venti anni dopo\n20 – 21 novembre 2018\nPontificia Università Lateranense\n  \nMartedì 20 novembre 2018\nAula Magna\nI SESSIONE\nore 9.00\nSaluto: Prof. Vincenzo Buonomo\nRettore Magnifico Pontificia Università Lateranense \nPresiede e modera: Prof. Gianluigi Pasquale\nPontificia Università Lateranense \nore 9.30\nCredere: l’atto antropologico più qualificante dell’uomo umano\nProf. Achim Schütz\n Pontificia Università Lateranense \nDiscussant: Prof. Giovanni Salmeri\n Università “Tor Vergata”\, Roma \nore 10.45 Pausa \nore 11.15\n“Fede” e “ragione”: perché la Rivelazione apre alla ragione\nS.E.R. Mons. Rino Fisichella\nPresidente del Pontificio Consiglio per la Promozione della Nuova Evangelizzazione \nDiscussant\nProf. Gianluigi Pasquale\nPontificia Università Lateranense \n\nII SESSIONE \nPresiede e modera: Prof. Emmanuele Vimercati\nDecano della Facoltà di Filosofia\, Pontificia Università Lateranense \nore 15.00\nLa fede dinnanzi all’affermarsi della scienza in Europa\nProf. Leonardo Messinese\n Pontificia Università Lateranense \nDiscussant\nProf. Giuseppe Tanzella-Nitti\nPontificia Università della Santa Croce \nore 16.15 Pausa \nore 16.45\n“Fides non terminatur ad enuntiabile\, sed ad rem”.\nIl realismo della fede\nProf. Giuseppe Lorizio\nPontificia Università Lateranense \nDiscussant\nProf.ssa Patrizia Manganaro\nPontificia Università Lateranense \n \nMercoledì 21 novembre 2018\nAula Pio XI\nIII SESSIONE\nPresiede e modera: Prof. Riccardo Ferri\nDecano della Facoltà di Teologia\, Pontificia Università Lateranense \nore 9.00\nCristo davanti alla ragione\nProf. Vincent Holzer\nInstitut Catholique de Paris \nDiscussant\nProf. Pierluigi Valenza\nSapienza Università di Roma \nore 10.15 Pausa \nore 10.50\n“Fides et ratio”: il pensare universitario come metodo e come ricerca\nProf.ssa Flavia Marcacci\nPontificia Università Lateranense \nDiscussant\nProf. Massimo Epis\nPreside della Facoltà Teologica dell’Italia Settentrionale\, Milano \nore 12.15\nConclusioni\nProf. Gianluigi Pasquale\nPontificia Università Lateranense \n  \n\nScarica il depliant dell’evento\n\nSegreteria organizzativa\nUfficio Comunicazione Istituzionale ed Eventi\nPontificia Università Lateranense\nPiazza San Giovanni in Laterano\, 4 00120 – Città del Vaticano\nTel. +39 06.6989.5676 / 699\nE-mail: eventi@pul.it\nSito: www.pul.it \n
URL:https://www.pul.it/event/una-ragione-per-credere-fides-et-ratio-venti-anni-dopo/
LOCATION:piazza San Giovanni in Laterano 4\, Roma\, Italia
END:VEVENT
END:VCALENDAR