BEGIN:VCALENDAR
VERSION:2.0
PRODID:-//Pontificia Università Lateranense - ECPv4.6.19//NONSGML v1.0//EN
CALSCALE:GREGORIAN
METHOD:PUBLISH
X-WR-CALNAME:Pontificia Università Lateranense
X-ORIGINAL-URL:https://www.pul.it
X-WR-CALDESC:Events for Pontificia Università Lateranense
BEGIN:VEVENT
DTSTART;TZID=Europe/Rome:20181112T111500
DTEND;TZID=Europe/Rome:20181112T130000
DTSTAMP:20260425T121409
CREATED:20181012T075742Z
LAST-MODIFIED:20181119T092425Z
UID:38779-1542021300-1542027600@www.pul.it
SUMMARY:Dies Academicus 2018/2019
DESCRIPTION:INAUGURAZIONE DELL’ANNO ACCADEMICO 2018/2019\nCCXLVI DALLA FONDAZIONE DELL’ATENEO\nLunedì\, 12 novembre 2018\nOre 11\,15\nAula Magna \n\nLa lectio magistralis sulla Costituzione apostolica che riforma la Curia Romana e l’istituzione di un nuovo ciclo di studi alla luce della Veritatis Gaudium. Lunedì 12 novembre\, si è svolta l’inaugurazione dell’Anno accademico della Pontificia Università Lateranense alla presenza del Segretario del Consiglio di Cardinali\, il vescovo Marcello Semeraro e del Sostituto per gli Affari Generali della Segreteria di Stato\, l’arcivescovo Edgar Peña Parra.\n \n \nUna lectio magistralis sulla nuova Costituzione Apostolica Praedicate evangelium della Curia Romana e la presentazione di un nuovo percorso formativo in Scienze della Pace. Sono stati questi i due momenti più significativi del Dies Academicus della Pontificia Università Lateranense che si è tenuto lunedì 12 novembre presso l’Aula Magna dell’Ateneo. \nA tenere la lezione è stato il vescovo di Albano\, Marcello Semeraro\, Segretario del Consiglio di Cardinali (C9)\, che ha condiviso le novità di una riforma fortemente voluta da Papa Francesco\, più volta richiamata nel suo Magistero e in particolare nel passaggio di Evangelii Gaudium nel quale il Pontefice sogna «una scelta missionaria capace di trasformare ogni cosa\, perché le consuetudini\, gli stili\, gli orari\, il linguaggio e ogni struttura ecclesiale diventino un canale adeguato per l’evangelizzazione del mondo attuale\, più che per l’autopreservazione». \n \nIl Sostituto per gli Affari Generali della Segreteria di Stato\, l’arcivescovo Edgar Peña Parra ha poi letto la lettera di Papa Francesco relativa all’istituzione del ciclo di studi in Scienze della Pace\, percorso che intende sviluppare le istanze della inter- e trans-disciplinarietà indicate nella Costituzione Apostolica Veritatis Gaudium al fine di qualificare la proposta scientifica e didattica delle Università ecclesiastiche. \n \nIl Dies\, avviato dal saluto del Cardinale Vicario Angelo De Donatis\, Gran Cancelliere della Lateranense\, è stato infine concluso dal Rettore Magnifico dell’Ateneo Vincenzo Buonomo\, che ha dato ufficialmente inizio all’Anno accademico 2018-2019\, 246° dalla fondazione dell’Università. \n\nLettera del Santo Padre\nLeggi la lectio magistralis di S. E. Mons. Semeraro\nScarica il Comunicato stampa in formato pdf\n\n\n– Guarda la photo gallery e il video del Dies Academicus 2018/2019\n\n\nUfficio Comunicazione istituzionale ed eventi\nWebsite: www.pul.it;\nE-mail: comunicazione@pul.it;\nTel. 06 69895555/522 \n
URL:https://www.pul.it/event/dies-academicus-2018-2019/
LOCATION:piazza San Giovanni in Laterano 4\, Roma\, Italia
END:VEVENT
END:VCALENDAR