BEGIN:VCALENDAR
VERSION:2.0
PRODID:-//Pontificia Università Lateranense - ECPv4.6.19//NONSGML v1.0//EN
CALSCALE:GREGORIAN
METHOD:PUBLISH
X-WR-CALNAME:Pontificia Università Lateranense
X-ORIGINAL-URL:https://www.pul.it
X-WR-CALDESC:Events for Pontificia Università Lateranense
BEGIN:VEVENT
DTSTART;TZID=Europe/Rome:20181026T163000
DTEND;TZID=Europe/Rome:20181026T183000
DTSTAMP:20260425T135018
CREATED:20181010T094010Z
LAST-MODIFIED:20181010T094010Z
UID:38735-1540571400-1540578600@www.pul.it
SUMMARY:"Teologie dell’educazione: ambito ecumenico e interreligioso"
DESCRIPTION:Presentazione del volume di Giuseppina Battista\nTeologie dell’educazione: ambito ecumenico e interreligioso.\n Un’antologia di testi\nLUP\, Città del Vaticano 2018\nVenerdì 26 ottobre 2018 – ore 16\,30 \nAula Paolo VI \nPontificia Università Lateranense\n\nSaluti\nProf. Vincenzo Buonomo\nRettore Magnifico della Pontificia Università Lateranense \nProf. Denis Biju-Duval\nPreside dell’Istituto Pastorale Redemptor Hominis\n\nIntroduce e modera\nProf.ssa Anna maria Pezzella\nPontificia Università Lateranense\n\nIntervengono\nProf. Giulio Cipollone\nAccademia Ambrosiana \nProf. Giovanni Rizzi\nPontificia Università Urbaniana \nSarà presente l’autrice \nPer informazioni\nUfficio Comunicazione Istituzionale ed eventi della PUL\nPiazza S. Giovanni in Laterano 4\,\n00120 Città del Vaticano\nTel. +39 06 69895676/699\nmail: eventi@pul.it \n
URL:https://www.pul.it/event/teologie-delleducazione-ambito-ecumenico-e-interreligioso/
LOCATION:piazza San Giovanni in Laterano 4\, Roma\, Italia
END:VEVENT
END:VCALENDAR