BEGIN:VCALENDAR
VERSION:2.0
PRODID:-//Pontificia Università Lateranense - ECPv4.6.19//NONSGML v1.0//EN
CALSCALE:GREGORIAN
METHOD:PUBLISH
X-WR-CALNAME:Pontificia Università Lateranense
X-ORIGINAL-URL:https://www.pul.it
X-WR-CALDESC:Events for Pontificia Università Lateranense
BEGIN:VEVENT
DTSTART;TZID=Europe/Rome:20181024T143000
DTEND;TZID=Europe/Rome:20181024T180000
DTSTAMP:20260425T134332
CREATED:20181010T082019Z
LAST-MODIFIED:20181010T094110Z
UID:38702-1540391400-1540404000@www.pul.it
SUMMARY:Innovazione tecnologica e distribuzione di prodotti creditizi
DESCRIPTION:A cura della Cattedra di diritto dei mercati finanziari\nin collaborazione con UFI (Unione Finanziarie Italiane) e Mefop \nInnovazione tecnologica e distribuzione di prodotti creditizi:\nsfide e opportunità per il legislatore\, le autorità di vigilanza e gli operatori nella prospettiva del diritto dell’Unione europea\nPontificia Università Lateranense\n24 ottobre 2018\nOre 14\,30\nPROGRAMMA DEI LAVORI \n14.30 Registrazione e welcome coffee\n15.00 Inizio dei lavori\nSaluto del Magnifico Rettore\nProf. Vincenzo Buonomo \nInterventi\nProf. Avv. Antonio Catricalà\, Presidente OAM\nDott. Giovanni Calabrò\, Direttore Generale DG Tutela del Consumatore AGCM\nGen. B. Giovanni Padula\, Comandante del Nucleo Speciale Polizia Valutaria di Roma\, Guardia di Finanza\nProf. Avv. David Terracina\, Docente incaricato di diritto penale dell’Economia\nModeratrice\nProf. Avv. Maddalena Marchesi\, Docente Incaricato di diritto dell’Economia e dei mercati finanziari \n17.00 Presentazione del Volume:\n«Credito ai consumatori e reti distributive: discipline applicabili e vigilanza»\ne consegna dei diplomi del Corso professionalizzante nel Settore creditizio\na cura del Dott. Mario Giordano\, Amministratore Delegato IBL Banca SpA\ne dell’Avv. Luca Paoletti\, Vice Segretario Generale UFI \n18.00 Conclusione dei lavori\nÈ stato richiesto il riconoscimento dei crediti formativi presso l’Ordine degli Avvocati di Roma e l’Ordine dei Dottori Commercialisti di Roma. Per informazioni contattare il numero: 06/44238501 o inviare e-mail a:  formazione@unionfin.it\n– Scarica la borchure \n
URL:https://www.pul.it/event/innovazione-tecnologica-e-distribuzione-di-prodotti-creditizi/
LOCATION:piazza San Giovanni in Laterano 4\, Roma\, Italia
END:VEVENT
END:VCALENDAR