BEGIN:VCALENDAR
VERSION:2.0
PRODID:-//Pontificia Università Lateranense - ECPv4.6.19//NONSGML v1.0//EN
CALSCALE:GREGORIAN
METHOD:PUBLISH
X-WR-CALNAME:Pontificia Università Lateranense
X-ORIGINAL-URL:https://www.pul.it
X-WR-CALDESC:Events for Pontificia Università Lateranense
BEGIN:VEVENT
DTSTART;TZID=Europe/Rome:20181010T083000
DTEND;TZID=Europe/Rome:20181010T100000
DTSTAMP:20260425T134317
CREATED:20181004T091537Z
LAST-MODIFIED:20181005T110013Z
UID:38636-1539160200-1539165600@www.pul.it
SUMMARY:Santa Messa per l'inaugurazione dell’A.A. 2018/2019
DESCRIPTION:Santa Messa per l’inaugurazione dell’A.A. 2018/2019\nMercoledì 10 ottobre 2018\, ore 8\,30\nAula Magna\nPontificia Università Lateranense\nSi terrà il prossimo mercoledì 10 ottobre alle 8.30 presso l’Aula Magna Benedetto XVI della Pontificia Università Lateranense la celebrazione della Santa Messa di inaugurazione dell’Anno Accademico 2018-2019. \nLa Messa sarà presieduta dal Cardinale Angelo De Donatis\, Gran Cancelliere dell’Ateneo e Vicario del Santo Padre per la diocesi di Roma. \nAlla Celebrazione possono partecipare docenti e studenti sacerdoti della Lateranense portando con sé camice e stola bianca. L’appuntamento per i concelebranti è alle ore 8.00 presso il foyer dell’Aula Magna (con ingresso dalla porta dello stesso foyer). \nPer permettere la partecipazione della comunità accademica\, le prime due ore di lezione (dalle 8.30 alle 10.05) saranno sospese. Tutti i docenti e gli studenti potranno accedere all’Aula Magna attraverso il passaggio interno con accesso dal corridoio del secondo piano. \n
URL:https://www.pul.it/event/santa-messa-di-inaugurazione-della-a-2018-2019/
LOCATION:piazza San Giovanni in Laterano 4\, Roma\, Italia
ATTACH;FMTTYPE=image/jpeg:https://www.pul.it/wp-content/uploads/2018/10/Messa-e1538645554989.jpg
END:VEVENT
END:VCALENDAR