BEGIN:VCALENDAR
VERSION:2.0
PRODID:-//Pontificia Università Lateranense - ECPv4.6.19//NONSGML v1.0//EN
CALSCALE:GREGORIAN
METHOD:PUBLISH
X-WR-CALNAME:Pontificia Università Lateranense
X-ORIGINAL-URL:https://www.pul.it
X-WR-CALDESC:Events for Pontificia Università Lateranense
BEGIN:VEVENT
DTSTART;TZID=Europe/Rome:20180620T160000
DTEND;TZID=Europe/Rome:20180620T180000
DTSTAMP:20260425T194604
CREATED:20180618T110142Z
LAST-MODIFIED:20180618T110142Z
UID:37818-1529510400-1529517600@www.pul.it
SUMMARY:Applicare gli SDG - Sustainable Development Goals
DESCRIPTION: \n
URL:https://www.pul.it/event/applicare-gli-sdg-sustainable-development-goals/
LOCATION:piazza San Giovanni in Laterano 4\, Roma\, Italia
CATEGORIES:CLAS
END:VEVENT
END:VCALENDAR