BEGIN:VCALENDAR
VERSION:2.0
PRODID:-//Pontificia Università Lateranense - ECPv4.6.19//NONSGML v1.0//EN
CALSCALE:GREGORIAN
METHOD:PUBLISH
X-WR-CALNAME:Pontificia Università Lateranense
X-ORIGINAL-URL:https://www.pul.it
X-WR-CALDESC:Events for Pontificia Università Lateranense
BEGIN:VEVENT
DTSTART;TZID=Europe/Rome:20180618T153000
DTEND;TZID=Europe/Rome:20180618T183000
DTSTAMP:20260425T194444
CREATED:20180525T125824Z
LAST-MODIFIED:20180525T125824Z
UID:37634-1529335800-1529346600@www.pul.it
SUMMARY:Martin Heiddeger. Cammini e Opera
DESCRIPTION: \n \n
URL:https://www.pul.it/event/martin-heiddeger-cammini-e-opera/
LOCATION:piazza San Giovanni in Laterano 4\, Roma\, Italia
CATEGORIES:Facoltà Filosofia
ORGANIZER;CN="Francesco%20Alfieri":MAILTO:alfieri@pul.it
END:VEVENT
END:VCALENDAR