BEGIN:VCALENDAR
VERSION:2.0
PRODID:-//Pontificia Università Lateranense - ECPv4.6.19//NONSGML v1.0//EN
CALSCALE:GREGORIAN
METHOD:PUBLISH
X-WR-CALNAME:Pontificia Università Lateranense
X-ORIGINAL-URL:https://www.pul.it
X-WR-CALDESC:Events for Pontificia Università Lateranense
BEGIN:VEVENT
DTSTART;TZID=Europe/Rome:20180509T090000
DTEND;TZID=Europe/Rome:20180509T183000
DTSTAMP:20260425T211751
CREATED:20180509T115155Z
LAST-MODIFIED:20180509T115245Z
UID:37495-1525856400-1525890600@www.pul.it
SUMMARY:Annunciare ai giovani la Gloria della Croce: un Vangelo ancora possibile?
DESCRIPTION: \n \n
URL:https://www.pul.it/event/annunciare-ai-giovani-la-gloria-della-croce-un-vangelo-ancora-possibile/
LOCATION:piazza San Giovanni in Laterano 4\, Roma\, Italia
CATEGORIES:Facoltà Teologia
ORGANIZER;CN="Ufficio%20Eventi":MAILTO:eventi@pul.it
END:VEVENT
END:VCALENDAR