BEGIN:VCALENDAR
VERSION:2.0
PRODID:-//Pontificia Università Lateranense - ECPv4.6.19//NONSGML v1.0//EN
CALSCALE:GREGORIAN
METHOD:PUBLISH
X-WR-CALNAME:Pontificia Università Lateranense
X-ORIGINAL-URL:https://www.pul.it
X-WR-CALDESC:Events for Pontificia Università Lateranense
BEGIN:VEVENT
DTSTART;TZID=Europe/Rome:20180424T102000
DTEND;TZID=Europe/Rome:20180424T172500
DTSTAMP:20260425T224133
CREATED:20180326T154406Z
LAST-MODIFIED:20180326T154406Z
UID:37360-1524565200-1524590700@www.pul.it
SUMMARY:Creazione e Creatività
DESCRIPTION:Seminari di Dottorato\nCREAZIONE E CREATIVITÀ\nQuestioni e figure\n18-20\, 23-24 aprile 2018 \nMartedì\, 24 aprile 2018\, aula Paolo VI\nOre 10.20 – 12.45\nGiusepp e Giordano\nUniversità degli Studi di Messina\nLa scienza tra ragione e intuizione: contesto della giustificazione e contesto della scoperta \n\nOre 15.00 – 17.25\nFlavia Marcacci\nPontificia Università Lateranense\nCreazione e cosmologia scientifica. Problemi epistemologici e opportunità speculative \n  \n\nScarica il Depliant con tutti  i seminari (Pdf)\n\n
URL:https://www.pul.it/event/creazione-e-creativita-5/
LOCATION:piazza San Giovanni in Laterano 4\, Roma\, Italia
CATEGORIES:Facoltà Filosofia
ORGANIZER;CN="Ufficio%20Eventi":MAILTO:eventi@pul.it
END:VEVENT
BEGIN:VEVENT
DTSTART;TZID=Europe/Rome:20180424T150000
DTEND;TZID=Europe/Rome:20180424T180000
DTSTAMP:20260425T224133
CREATED:20180423T090757Z
LAST-MODIFIED:20180423T090757Z
UID:37408-1524582000-1524592800@www.pul.it
SUMMARY:Arte ed Economia
DESCRIPTION: \n
URL:https://www.pul.it/event/arte-ed-economia/
LOCATION:piazza San Giovanni in Laterano 4\, Roma\, Italia
CATEGORIES:Istituto Pastorale
ORGANIZER;CN="Ufficio%20Eventi":MAILTO:eventi@pul.it
END:VEVENT
END:VCALENDAR