BEGIN:VCALENDAR
VERSION:2.0
PRODID:-//Pontificia Università Lateranense - ECPv4.6.19//NONSGML v1.0//EN
CALSCALE:GREGORIAN
METHOD:PUBLISH
X-WR-CALNAME:Pontificia Università Lateranense
X-ORIGINAL-URL:https://www.pul.it
X-WR-CALDESC:Events for Pontificia Università Lateranense
BEGIN:VEVENT
DTSTART;TZID=Europe/Rome:20180418T102000
DTEND;TZID=Europe/Rome:20180418T172500
DTSTAMP:20260425T224122
CREATED:20180326T153136Z
LAST-MODIFIED:20180326T153136Z
UID:37350-1524046800-1524072300@www.pul.it
SUMMARY:Creazione e Creatività
DESCRIPTION:Seminari di Dottorato\nCREAZIONE E CREATIVITÀ\nQuestioni e figure\n18-20\, 23-24 aprile 2018 \nMercoledì\, 18 aprile 2018\, aula Paolo VI\nOre 10.20 – 12.45\nPatrizia Manganaro\nPontificia Università Lateranense\nGrammatiche dello spirito. Empatia e creatività in Edith Stein \n\nOre 15.00 – 17.25\nL’uboš Rojka\nPontificia Università Gregoriana\nL’inizio dell’universo: orientamenti scientifici e filosofici \n  \n\nScarica il Depliant con tutti  i seminari (Pdf)\n\n
URL:https://www.pul.it/event/creazione-e-creativita/
LOCATION:piazza San Giovanni in Laterano 4\, Roma\, Italia
CATEGORIES:Facoltà Filosofia
ORGANIZER;CN="Ufficio%20Eventi":MAILTO:eventi@pul.it
END:VEVENT
END:VCALENDAR