BEGIN:VCALENDAR
VERSION:2.0
PRODID:-//Pontificia Università Lateranense - ECPv4.6.19//NONSGML v1.0//EN
CALSCALE:GREGORIAN
METHOD:PUBLISH
X-WR-CALNAME:Pontificia Università Lateranense
X-ORIGINAL-URL:https://www.pul.it
X-WR-CALDESC:Events for Pontificia Università Lateranense
BEGIN:VEVENT
DTSTART;TZID=Europe/Rome:20180417T091500
DTEND;TZID=Europe/Rome:20180417T180000
DTSTAMP:20260425T224108
CREATED:20180326T152155Z
LAST-MODIFIED:20180326T152155Z
UID:37347-1523956500-1523988000@www.pul.it
SUMMARY:Creazione e Temporalità
DESCRIPTION:Convegno\nCREAZIONE E TEMPORALITÀ\nQuestioni e figure\n17 aprile 2018 \nOre 9.15\nSaluto introduttivo\nS .E. Mons. Enrico dal Covolo\nRettore Magnifico Pontificia Università Lateranense \nSessione mattutina\nCreazione\, eternità e tempo nella tradizione classica \nOre 9.30 \nPresiede\nRoberto Di Ceglie\nPontificia Università Lateranense \nLuigi Ruggiu\nUniversità Ca’ Foscari\, Venezia\nEternità e tempo: Parmenide\, Aristotele\, Epicuro \nOre 10.00\nLuigi Alici\nUniversità degli Studi di Macerata\nAgostino e il mistero dell’origine:creazione e partecipazione \nOre 10.30\nPausa \nOre 10.45\nAlessandro Ghisalberti\nUniversità Cattolica del Sacro Cuore\, Milano\nL’ordine della creazione in Bonaventura da Bagnoregio \nOre 11.15 \nDiscussione \nOre 13.00 \nPausa pranzo \nSessione pomeridiana\nCreazione\, natura e spirito: orientamenti del dibattito contemporaneo \nOre 15.00 \nPresiede\nAngela Ales Bello\nPontificia Università Lateranense \nRosa Maria Calcaterra\nUniversità degli Studi Roma Tre\nDal pathos della contingenza all’ethos della responsabilità: naturalismo e “umanesimo radicale” in W. James \nOre 15.30\nLeonardo Messinese\nPontificia Università Lateranense\nLa creazione come autoctisi in Giovanni Gentile \nOre 16.00\n Pausa \nOre 16.15\nGianfranco Basti\nPontificia Università Lateranense\nTempo e cosmologia dalla fisica alla metafisica \nOre 16.45\n Discussione e conclusioni al Convegno \nOre 18.00 Fine dei lavori \n  \n\nScarica il Depliant dell’evento (Pdf)\n\n
URL:https://www.pul.it/event/creazione-e-temporalita/
LOCATION:piazza San Giovanni in Laterano 4\, Roma\, Italia
CATEGORIES:Facoltà Filosofia
ORGANIZER;CN="Ufficio%20Eventi":MAILTO:eventi@pul.it
END:VEVENT
END:VCALENDAR