BEGIN:VCALENDAR
VERSION:2.0
PRODID:-//Pontificia Università Lateranense - ECPv4.6.19//NONSGML v1.0//EN
CALSCALE:GREGORIAN
METHOD:PUBLISH
X-WR-CALNAME:Pontificia Università Lateranense
X-ORIGINAL-URL:https://www.pul.it
X-WR-CALDESC:Events for Pontificia Università Lateranense
BEGIN:VEVENT
DTSTART;TZID=Europe/Rome:20180321T102000
DTEND;TZID=Europe/Rome:20180321T124500
DTSTAMP:20260426T001242
CREATED:20180226T114623Z
LAST-MODIFIED:20180228T110729Z
UID:37230-1521627600-1521636300@www.pul.it
SUMMARY:Come nascono le teorie scientifiche tra scienza\, filosofia e teologia
DESCRIPTION:Ciclo di seminari \nIRAFS – International Research Area on Foundations of the Sciences –\nCattedra di Storia del Pensiero Scientifico \nQuando una teoria scientifica prende forma\, nuovi concetti e termini vengono alla luce. Durante il processo della loro invenzione\, possono aver bisogno di prendere in prestito concetti e termini da altre discipline. Solo in un secondo momento\, il rigore formale subentrerà\, separando opportunamente gli ambiti. Nel corso della storia\, la teologia ha spesso offerto suggerimenti e astrazioni agli scienziati che\, coscientemente o meno\, ne fecero uso. Questo accadde in passato\, ma accade ancora oggi. Lo sfondo metafisico e teologico di alcune teorie scientifiche è qui indagato\, prendendo in considerazione aspetti particolari dei lavori di alcuni importanti scienziati. \n21 marzo 2018\nOre 10.20-12.45 (Aula 107)\nStefano Bordoni (Università di Bologna)\, Dalla termodinamica alla teologia: un dibattito di fine Ottocento. \n
URL:https://www.pul.it/event/nascono-le-teorie-scientifiche-scienza-filosofia-teologia-4/
LOCATION:piazza San Giovanni in Laterano 4\, Roma\, Italia
CATEGORIES:Facoltà Filosofia
END:VEVENT
BEGIN:VEVENT
DTSTART;TZID=Europe/Rome:20180321T163000
DTEND;TZID=Europe/Rome:20180321T183000
DTSTAMP:20260426T001242
CREATED:20180316T155621Z
LAST-MODIFIED:20180316T155621Z
UID:37312-1521649800-1521657000@www.pul.it
SUMMARY:L'intuizione intellettuale in Antonio Rosmini ed Edith Stein
DESCRIPTION: \n  \n\nScarica Invito dell’evento (Pdf)\n\n  \n  \n  \n
URL:https://www.pul.it/event/lintuizione-intellettuale-antonio-rosmini-ed-edith-stein/
LOCATION:piazza San Giovanni in Laterano 4\, Roma\, Italia
CATEGORIES:Facoltà Filosofia
ORGANIZER;CN="Ufficio%20Eventi":MAILTO:eventi@pul.it
END:VEVENT
END:VCALENDAR