BEGIN:VCALENDAR
VERSION:2.0
PRODID:-//Pontificia Università Lateranense - ECPv4.6.19//NONSGML v1.0//EN
CALSCALE:GREGORIAN
METHOD:PUBLISH
X-WR-CALNAME:Pontificia Università Lateranense
X-ORIGINAL-URL:https://www.pul.it
X-WR-CALDESC:Events for Pontificia Università Lateranense
BEGIN:VEVENT
DTSTART;TZID=Europe/Rome:20180320T163000
DTEND;TZID=Europe/Rome:20180320T180000
DTSTAMP:20260426T001201
CREATED:20180308T121650Z
LAST-MODIFIED:20180308T121724Z
UID:37255-1521563400-1521568800@www.pul.it
SUMMARY:La Pop-Theology sfida la prassi e il pensiero
DESCRIPTION:In occasione della pubblicazione del volume A. Staglianò\, Pop-Theology per giovani. Autocritica del cattolicesimo convenzionale per un cristianesimo umano\, prefazione di Antonio Spadaro (Rubbettino\, Soveria Mannelli 2018) \nIl dott. Mimmo Muolo (giornalista di Avvenire)\nintervista\nGiuseppe Lorizio (Pontificia Università Lateranense)\nAntonio Staglianò (vescovo di Noto) \nConclude il dott. Maurizio Serio (Edizioni Rubbettino) \nMARTEDÌ 20 MARZO ore 16.30\nPontificia Università Lateranense\nAula Paolo VI\n  \n\nScarica la brochure dell’evento (Pdf)\n\n  \n  \n
URL:https://www.pul.it/event/la-pop-theology-sfida-la-prassi-pensiero/
LOCATION:piazza San Giovanni in Laterano 4\, Roma\, Italia
CATEGORIES:Facoltà Teologia,Libri
ORGANIZER;CN="Ufficio%20Eventi":MAILTO:eventi@pul.it
END:VEVENT
END:VCALENDAR