BEGIN:VCALENDAR
VERSION:2.0
PRODID:-//Pontificia Università Lateranense - ECPv4.6.19//NONSGML v1.0//EN
CALSCALE:GREGORIAN
METHOD:PUBLISH
X-WR-CALNAME:Pontificia Università Lateranense
X-ORIGINAL-URL:https://www.pul.it
X-WR-CALDESC:Events for Pontificia Università Lateranense
BEGIN:VEVENT
DTSTART;TZID=Europe/Rome:20180125T090000
DTEND;TZID=Europe/Rome:20180126T183000
DTSTAMP:20260426T030309
CREATED:20180123T154730Z
LAST-MODIFIED:20180123T154826Z
UID:37014-1516870800-1516991400@www.pul.it
SUMMARY:IX Forum Internazionale della Pontificia Accademia di Teologia
DESCRIPTION:CREDO IN DIO PADRE ONNIPOTENTE\nCREATORE DEL CIELO\nE DELLA TERRA\n25 – 26 Gennaio 2018\n Aula Paolo VI\n Pontificia Università Lateranense \n \n
URL:https://www.pul.it/event/ix-forum-internazionale-della-pontificia-accademia-teologia/
LOCATION:piazza San Giovanni in Laterano 4\, Roma\, Italia
CATEGORIES:Facoltà Teologia
ORGANIZER;CN="Ufficio%20Eventi":MAILTO:eventi@pul.it
END:VEVENT
BEGIN:VEVENT
DTSTART;TZID=Europe/Rome:20180125T164500
DTEND;TZID=Europe/Rome:20180125T184500
DTSTAMP:20260426T030309
CREATED:20171007T143631Z
LAST-MODIFIED:20171007T143631Z
UID:36469-1516898700-1516905900@www.pul.it
SUMMARY:Ciclo di Lezioni su Edith Stein
DESCRIPTION:Giovedì 25 gennaio 2018\n ore 16.45 – 18.15\, aula Paolo VI\nProf. Giulio D’Onofrio – Prof. Francesco Alfieri \nSull’intenzionalità\nQuaerere interius – Il dialogo delle intenzioni\nBonaventura da Bagnoregio e Edith Stein\n  \n\nScarica la Locandina delle Lezioni (Pdf)\nScarica il Depliant delle Lezioni (Pdf)\n\n
URL:https://www.pul.it/event/ciclo-lezioni-edith-stein-8/
LOCATION:piazza San Giovanni in Laterano 4\, Roma\, Italia
ATTACH;FMTTYPE=image/jpeg:https://www.pul.it/wp-content/uploads/2017/10/Edith-Stein-Foto.jpg
ORGANIZER;CN="Ufficio%20Eventi":MAILTO:eventi@pul.it
END:VEVENT
END:VCALENDAR