BEGIN:VCALENDAR
VERSION:2.0
PRODID:-//Pontificia Università Lateranense - ECPv4.6.19//NONSGML v1.0//EN
CALSCALE:GREGORIAN
METHOD:PUBLISH
X-WR-CALNAME:Pontificia Università Lateranense
X-ORIGINAL-URL:https://www.pul.it
X-WR-CALDESC:Events for Pontificia Università Lateranense
BEGIN:VEVENT
DTSTART;TZID=Europe/Rome:20180123T100000
DTEND;TZID=Europe/Rome:20180123T170000
DTSTAMP:20260426T025637
CREATED:20171222T121926Z
LAST-MODIFIED:20171222T122010Z
UID:36959-1516701600-1516726800@www.pul.it
SUMMARY:Introduzione alla Riforma del Terzo settore per gli enti ecclesiastici
DESCRIPTION:Martedì\, 23 gennaio 2018\nAula Paolo VI\nPontificia Università Lateranense\n  \nIl Convegno intende riflettere sulla Riforma del Terzo settore (decreti legislativi nn. 112/2017 e 117/2017) con particolare riferimento agli Enti ecclesiastici. Docenti universitari ed esperti si confronteranno sulla recente modifica legislativa\, sugli aspetti tributari e giuridici di una Riforma fondamentale per le comunità ecclesiali e\, più in generale\, per la società italiana. \nPROGRAMMA\nOre 10:00 | Saluti istituzionali\nS.E.R. Mons. Enrico dal Covolo\nRettore Magnifico Pontificia Università Lateranense \nModera\nProf. Massimiliano Padula\nPontificia Università Lateranense \nOre 10:15 | Aspetti giuridici della Riforma del Terzo settore\nProf. Antonio Fici\nUniversità del Molise \nOre 10:45 | La fiscalità degli Enti del Terzo settore\nAvv. Gabriele Sepio\nScuola nazionale della Pubblica amministrazione \nOre 11:15 | Impresa sociale ed enti ecclesiastici\nProf. Raffaele Lomonaco\nPontificia Università Lateranense \nOre 11:45 | Interventi aula \nOre 15:00 | Profili internazionali del nuovo codice del Terzo settore\nProf. Vincenzo Buonomo\nPontificia Università Lateranense \nOre 15:30 | Il ramo Terzo settore ed enti ecclesiastici opportunità e questioni aperte\nDon Lorenzo Simonelli\nAvvocato Generale della Curia dell’Arcidiocesi di Milano\nAvv. Lorenzo Pilon\nConsulente di diocesi ed istituti religiosi \nOre 16:00 | Il ramo Terzo settore dell’ente ecclesiastico: questioni contabili e fiscali\nProf. Gian Mario Colombo\nDottore Commercialista in Milano\, docente di “Tecnica Professionale” all’Università Cattolica \nRag. Patrizia Clementi\nFiscalista e collaboratrice  dell’Avvocatura della Curia dell’Arcidiocesi di Milano \nOre 16:30 | Interventi aula \nOre 17:00 | Conclusione \n\nScarica il depliant (Pdf)\n\n
URL:https://www.pul.it/event/introduzione-alla-riforma-del-terzo-settore-gli-enti-ecclesiastici/
LOCATION:piazza San Giovanni in Laterano 4\, Roma\, Italia
CATEGORIES:CLAS
ATTACH;FMTTYPE=image/jpeg:https://www.pul.it/wp-content/uploads/2017/12/Introduzione-alla-riforma-1.jpg
ORGANIZER;CN="Ufficio%20Eventi":MAILTO:eventi@pul.it
END:VEVENT
END:VCALENDAR