BEGIN:VCALENDAR
VERSION:2.0
PRODID:-//Pontificia Università Lateranense - ECPv4.6.19//NONSGML v1.0//EN
CALSCALE:GREGORIAN
METHOD:PUBLISH
X-WR-CALNAME:Pontificia Università Lateranense
X-ORIGINAL-URL:https://www.pul.it
X-WR-CALDESC:Events for Pontificia Università Lateranense
BEGIN:VEVENT
DTSTART;TZID=Europe/Rome:20180118T091500
DTEND;TZID=Europe/Rome:20180118T121500
DTSTAMP:20260426T025637
CREATED:20180109T113712Z
LAST-MODIFIED:20180109T113712Z
UID:36972-1516266900-1516277700@www.pul.it
SUMMARY:Orientamento Facoltà Filosofia
DESCRIPTION:Comprendere l’oggi\,\nCostruire il domani\nIn un contesto di crisi occupazionale e nel persistere del sapere specialistico\, si sente oggi l’urgenza di riscoprire il ruolo formativo e sociale della filosofia.\nSoprattutto nel mondo del lavoro\, la dimensione post-globalizzata dell’economia e delle conoscenze rende necessaria una sintesi filosofica che ricomponga ogni frammentazione e riduca il rischio della dispersione del le competenze. Scopo della giornata di orientamento è mostrare come il sapere filosofico permetta di porre sempre al centro del comune interesse il rispetto della persona umana e sappia svolgere un duplice ruolo: nell’agire pubblico e politico esso è essenziale per mettere a confronto le culture; nel mondo digitale serve a garantire progettualità e efficacia alle sollecitazioni sempre nuove della scienza e del la tecnica.\nLa filosofia è infatti in grado di fornire le categorie per un pensiero critico ed essere una risorsa nel mondo del lavoro. \n\nScarica il programma della giornata di orientamento (Pdf)\n\n  \n
URL:https://www.pul.it/event/orientamento-facolta-filosofia/
LOCATION:piazza San Giovanni in Laterano 4\, Roma\, Italia
CATEGORIES:Facoltà Filosofia
ORGANIZER;CN="Ufficio%20Eventi":MAILTO:eventi@pul.it
END:VEVENT
END:VCALENDAR