BEGIN:VCALENDAR
VERSION:2.0
PRODID:-//Pontificia Università Lateranense - ECPv4.6.19//NONSGML v1.0//EN
CALSCALE:GREGORIAN
METHOD:PUBLISH
X-WR-CALNAME:Pontificia Università Lateranense
X-ORIGINAL-URL:https://www.pul.it
X-WR-CALDESC:Events for Pontificia Università Lateranense
BEGIN:VEVENT
DTSTART;TZID=Europe/Rome:20180117T150000
DTEND;TZID=Europe/Rome:20180117T163000
DTSTAMP:20260426T030249
CREATED:20180110T135355Z
LAST-MODIFIED:20180110T135355Z
UID:36988-1516201200-1516206600@www.pul.it
SUMMARY:Come nascono le teorie scientifiche tra scienza\, filosofia e teologia
DESCRIPTION:Quando una teoria scientifica prende forma\, nuovi concetti e termini vengono alla luce. Durante il processo della loro invenzione\, possono aver bisogno di prendere in prestito concetti e termini da altre discipline. Solo in un secondo momento\, il rigore formale subentrerà\, separando opportunamente gli ambiti. Nel corso della storia\, la teologia ha spesso offerto suggerimenti e astrazioni agli scienziati che\, coscientemente o meno\, ne fecero uso. Questo accadde in passato\, ma accade ancora oggi. Lo sfondo metafisico e teologico di alcune teorie scientifiche è qui indagato\, prendendo in considerazione aspetti particolari dei lavori di alcuni importanti scienziati. \nWhen a scientific theory takes shape\, new concepts and terms come to light. During the process of their invention\, they may need to borrow concepts and terms from other disciplines. It is only at a later stage that formal rigor will take over\, appropriately separating the areas. Throughout history\, theology has often offered suggestions and abstractions to scientists who consciously or unconsciously made use of them. This happened in the past\, but it still happens today. The metaphysical and theological background of some scientific theories is investigated here\, taking into account particular aspects of the works of some important scientists. \n  \n\n17 gennaio 2018\, ore 15.00-16.30. Aula 304\nPierluigi Graziani (Università di Urbino\, DISPEA)\, “[…] solo impegnato in una ricerca logica […]”. Riflessioni sulla prova ontologica di K. Gödel.\n\n
URL:https://www.pul.it/event/nascono-le-teorie-scientifiche-scienza-filosofia-teologia-2/
LOCATION:piazza San Giovanni in Laterano 4\, Roma\, Italia
CATEGORIES:Facoltà Filosofia
ORGANIZER;CN="Ufficio%20Eventi":MAILTO:eventi@pul.it
END:VEVENT
BEGIN:VEVENT
DTSTART;TZID=Europe/Rome:20180117T164500
DTEND;TZID=Europe/Rome:20180117T184500
DTSTAMP:20260426T030249
CREATED:20171007T143302Z
LAST-MODIFIED:20171007T143302Z
UID:36467-1516207500-1516214700@www.pul.it
SUMMARY:Ciclo di Lezioni su Edith Stein
DESCRIPTION:Mercoledì 17 gennaio 2018\n ore 16.45 – 18.15\, aula Paolo VI\nProf. P. Ulrich Dobhan – Prof.ssa Patrizia Manganaro \nSulla mistica\nTeresa d’Avila e Edith Stein\n  \n\nScarica la Locandina delle Lezioni (Pdf)\nScarica il Depliant delle Lezioni (Pdf)\n\n
URL:https://www.pul.it/event/ciclo-lezioni-edith-stein-7/
LOCATION:piazza San Giovanni in Laterano 4\, Roma\, Italia
ATTACH;FMTTYPE=image/jpeg:https://www.pul.it/wp-content/uploads/2017/10/Edith-Stein-Foto.jpg
ORGANIZER;CN="Ufficio%20Eventi":MAILTO:eventi@pul.it
END:VEVENT
END:VCALENDAR