BEGIN:VCALENDAR
VERSION:2.0
PRODID:-//Pontificia Università Lateranense - ECPv4.6.19//NONSGML v1.0//EN
CALSCALE:GREGORIAN
METHOD:PUBLISH
X-WR-CALNAME:Pontificia Università Lateranense
X-ORIGINAL-URL:https://www.pul.it
X-WR-CALDESC:Events for Pontificia Università Lateranense
BEGIN:VEVENT
DTSTART;TZID=Europe/Rome:20180110T143000
DTEND;TZID=Europe/Rome:20180110T180000
DTSTAMP:20260426T030310
CREATED:20180110T114045Z
LAST-MODIFIED:20180110T114045Z
UID:36982-1515594600-1515607200@www.pul.it
SUMMARY:Come nascono le teorie scientifiche tra scienza\, filosofia e teologia
DESCRIPTION:Quando una teoria scientifica prende forma\, nuovi concetti e termini vengono alla luce. Durante il processo della loro invenzione\, possono aver bisogno di prendere in prestito concetti e termini da altre discipline. Solo in un secondo momento\, il rigore formale subentrerà\, separando opportunamente gli ambiti. Nel corso della storia\, la teologia ha spesso offerto suggerimenti e astrazioni agli scienziati che\, coscientemente o meno\, ne fecero uso. Questo accadde in passato\, ma accade ancora oggi. Lo sfondo metafisico e teologico di alcune teorie scientifiche è qui indagato\, prendendo in considerazione aspetti particolari dei lavori di alcuni importanti scienziati. \nWhen a scientific theory takes shape\, new concepts and terms come to light. During the process of their invention\, they may need to borrow concepts and terms from other disciplines. It is only at a later stage that formal rigor will take over\, appropriately separating the areas. Throughout history\, theology has often offered suggestions and abstractions to scientists who consciously or unconsciously made use of them. This happened in the past\, but it still happens today. The metaphysical and theological background of some scientific theories is investigated here\, taking into account particular aspects of the works of some important scientists. \n\n10 gennaio 2018\, ore 14.30. Aula 304\n\n14.30-15.15: Simone Guidi (Universidade de Coimbra)\, II genio maligno di Descartes: un’ipotesi “iperbolica” tra teologia e scienza \nDibattito \nPausa \n16.00-16.45: Luca Tonetti (Università La Sapienza)\, In lumbis Adami & Evae: il dibattito sulla preesistenza nel contesto scientifico italiano \nDibattito \n18.00 Fine \n
URL:https://www.pul.it/event/nascono-le-teorie-scientifiche-scienza-filosofia-teologia/
LOCATION:piazza San Giovanni in Laterano 4\, Roma\, Italia
CATEGORIES:Facoltà Filosofia
ORGANIZER;CN="Ufficio%20Eventi":MAILTO:eventi@pul.it
END:VEVENT
END:VCALENDAR