BEGIN:VCALENDAR
VERSION:2.0
PRODID:-//Pontificia Università Lateranense - ECPv4.6.19//NONSGML v1.0//EN
CALSCALE:GREGORIAN
METHOD:PUBLISH
X-WR-CALNAME:Pontificia Università Lateranense
X-ORIGINAL-URL:https://www.pul.it
X-WR-CALDESC:Events for Pontificia Università Lateranense
BEGIN:VEVENT
DTSTART;TZID=Europe/Rome:20171214T150000
DTEND;TZID=Europe/Rome:20171214T170000
DTSTAMP:20260426T042803
CREATED:20171204T122804Z
LAST-MODIFIED:20171204T122804Z
UID:36854-1513263600-1513270800@www.pul.it
SUMMARY:Il diritto d’asilo tra esigenza di protezione e regole
DESCRIPTION:In occasione della Giornata Mondiale dei Diritti dell’uomo\, il Dipartimento di Studi sulla Comunità Internazionale dell’Institutum Utriusque Iuris ha il piacere di invitarvi al seminario di studio su \n“Il diritto d’asilo tra esigenza di protezione e regole”\nGiovedì\, 14 dicembre 2017 – ore 15:00\nAula Pio XI\nPontificia Università Lateranense \nSALUTO\nS.E. Mons. Enrico DAL COVOLO\nRettore Magnifico\, Pontificia Università Lateranense \nLECTIO MAGISTRALIS\nPrefetto Sandra SARTI\nPresidente della Commissione Nazionale per il Diritto d’Asilo \nDIBATTITO \nCONCLUSIONI\nProf. Vincenzo BUONOMO\nDirettore del Dipartimento di Studi sulla Comunità Internazionale \n  \n\nScarica la Locandina (Pdf)\n\n
URL:https://www.pul.it/event/diritto-dasilo-esigenza-protezione-regole/
LOCATION:piazza San Giovanni in Laterano 4\, Roma\, Italia
ATTACH;FMTTYPE=image/jpeg:https://www.pul.it/wp-content/uploads/2017/12/diritti-umani.jpg
ORGANIZER;CN="Ufficio%20Eventi":MAILTO:eventi@pul.it
END:VEVENT
END:VCALENDAR