BEGIN:VCALENDAR
VERSION:2.0
PRODID:-//Pontificia Università Lateranense - ECPv4.6.19//NONSGML v1.0//EN
CALSCALE:GREGORIAN
METHOD:PUBLISH
X-WR-CALNAME:Pontificia Università Lateranense
X-ORIGINAL-URL:https://www.pul.it
X-WR-CALDESC:Events for Pontificia Università Lateranense
BEGIN:VEVENT
DTSTART;TZID=Europe/Rome:20171213T102000
DTEND;TZID=Europe/Rome:20171213T124500
DTSTAMP:20260426T042738
CREATED:20171128T124155Z
LAST-MODIFIED:20171128T124155Z
UID:36826-1513160400-1513169100@www.pul.it
SUMMARY:“Amoris Laetitia” punto di svolta per la Teologia dell’azione ecclesiale
DESCRIPTION:Evento in onore del Prof. Sergio Lanza\, Ordinario di Teologia Pastorale nella Facoltà di S. Teologia e Preside del Pontificio Istituto Pastorale“Redemptor Hominis”\, in occasione del quinto anno della sua scomparsa. \nMercoledì 13 dicembre 2017\nore 10.20 – 12.45\nAula Pio XI\nSaluto del Rettore Magnifico\nSua Ecc.za Mons. Enrico dal Covolo \nModeratore\nProf. Denis Biju-Duval\nPreside dell’Istituto Pastorale “Redemptor Hominis” \nInterventi\nProf. Antonio Autiero\n“Amoris Laetitia” tra teologia pastorale e teologia morale \nProf. Pierangelo Sequeri\nLa sacramentalità del matrimonio\, tema di teologia pastorale \nProf. Nicola Reali\n“Risvegliare la fiducia nella grazia” (AL\, 36): il metodo pastorale di “Amoris Laetitia” \n  \n\nScarica l’invito all’evento (Pdf)\n\n
URL:https://www.pul.it/event/amoris-laetitia-punto-svolta-la-teologia-dellazione-ecclesiale/
LOCATION:piazza San Giovanni in Laterano 4\, Roma\, Italia
CATEGORIES:Facoltà Teologia
ATTACH;FMTTYPE=image/jpeg:https://www.pul.it/wp-content/uploads/2017/11/Lanza.jpg
ORGANIZER;CN="Ufficio%20Eventi":MAILTO:eventi@pul.it
END:VEVENT
BEGIN:VEVENT
DTSTART;TZID=Europe/Rome:20171213T164500
DTEND;TZID=Europe/Rome:20171213T184500
DTSTAMP:20260426T042738
CREATED:20171007T143120Z
LAST-MODIFIED:20171007T143120Z
UID:36465-1513183500-1513190700@www.pul.it
SUMMARY:Ciclo di Lezioni su Edith Stein
DESCRIPTION:Mercoledì 13 dicembre 2017\n ore 16.45 – 18.15\, aula Paolo VI\nProf. Leonardo Messinese – Prof. Francesco Valerio Tommasi \nSulla filosofia cristiana\nEdith Stein e Gustavo Bontadini\nMERCOLEDÌ 17 GENNAIO 2018 ORE 16\,45-\n  \n\nScarica la Locandina delle Lezioni (Pdf)\nScarica il Depliant delle Lezioni (Pdf)\n\n
URL:https://www.pul.it/event/ciclo-lezioni-edith-stein-6/
LOCATION:piazza San Giovanni in Laterano 4\, Roma\, Italia
ATTACH;FMTTYPE=image/jpeg:https://www.pul.it/wp-content/uploads/2017/10/Edith-Stein-Foto.jpg
ORGANIZER;CN="Ufficio%20Eventi":MAILTO:eventi@pul.it
END:VEVENT
END:VCALENDAR