BEGIN:VCALENDAR
VERSION:2.0
PRODID:-//Pontificia Università Lateranense - ECPv4.6.19//NONSGML v1.0//EN
CALSCALE:GREGORIAN
METHOD:PUBLISH
X-WR-CALNAME:Pontificia Università Lateranense
X-ORIGINAL-URL:https://www.pul.it
X-WR-CALDESC:Events for Pontificia Università Lateranense
BEGIN:VEVENT
DTSTART;TZID=Europe/Rome:20191120T140000
DTEND;TZID=Europe/Rome:20191120T180000
DTSTAMP:20260422T000652
CREATED:20191112T131823Z
LAST-MODIFIED:20191112T131823Z
UID:41091-1574258400-1574272800@www.pul.it
SUMMARY:Con Cristo nel Getsemani per la salute dell'uomo. Proposte per una cultura della cura della persona
DESCRIPTION: \n
URL:https://www.pul.it/event/con-cristo-nel-getsemani-per-la-salute-delluomo-proposte-per-una-cultura-della-cura-della-persona/
LOCATION:piazza San Giovanni in Laterano 4\, Roma\, Italia
END:VEVENT
END:VCALENDAR